BEGIN:VCALENDAR
VERSION:2.0
PRODID:I Am Here
BEGIN:VEVENT
UID:69ec3cabb9295
DTSTART:20150412T203000Z
SEQUENCE:0
TRANSP:OPAQUE
DTEND:20150412T203000Z
SUMMARY:I Am Here
CLASS:PUBLIC
DTSTAMP:20260425T040147Z
END:VEVENT
END:VCALENDAR