BEGIN:VCALENDAR
VERSION:2.0
PRODID:The Creator of the Jungle
BEGIN:VEVENT
UID:69e63dc2de87f
DTSTART:20150417T000000Z
SEQUENCE:0
TRANSP:OPAQUE
DTEND:20150417T000000Z
SUMMARY:The Creator of the Jungle
CLASS:PUBLIC
DTSTAMP:20260420T145250Z
END:VEVENT
END:VCALENDAR