BEGIN:VCALENDAR
VERSION:2.0
PRODID:Tired Moonlight
BEGIN:VEVENT
UID:69ea05a7796aa
DTSTART:20150419T020000Z
SEQUENCE:0
TRANSP:OPAQUE
DTEND:20150419T020000Z
SUMMARY:Tired Moonlight
CLASS:PUBLIC
DTSTAMP:20260423T114231Z
END:VEVENT
END:VCALENDAR