BEGIN:VCALENDAR
VERSION:2.0
PRODID:The Treatment
BEGIN:VEVENT
UID:69ecd1001bc40
DTSTART:20150425T003000Z
SEQUENCE:0
TRANSP:OPAQUE
DTEND:20150425T003000Z
SUMMARY:The Treatment
CLASS:PUBLIC
DTSTAMP:20260425T143440Z
END:VEVENT
END:VCALENDAR