BEGIN:VCALENDAR
VERSION:2.0
PRODID:Lehto & Wright
BEGIN:VEVENT
UID:69e6cb30447b1
DTSTART:20150701T170000Z
SEQUENCE:0
TRANSP:OPAQUE
DTEND:20150701T170000Z
SUMMARY:Lehto & Wright
CLASS:PUBLIC
DTSTAMP:20260421T005616Z
END:VEVENT
END:VCALENDAR