BEGIN:VCALENDAR
VERSION:2.0
PRODID:The New Standards
BEGIN:VEVENT
UID:69e5985424705
DTSTART:20150708T170000Z
SEQUENCE:0
TRANSP:OPAQUE
DTEND:20150708T170000Z
SUMMARY:The New Standards
CLASS:PUBLIC
DTSTAMP:20260420T030700Z
END:VEVENT
END:VCALENDAR