BEGIN:VCALENDAR
VERSION:2.0
PRODID:Rockin Pine Cones
BEGIN:VEVENT
UID:69e5341129343
DTSTART:20150722T170000Z
SEQUENCE:0
TRANSP:OPAQUE
DTEND:20150722T170000Z
SUMMARY:Rockin Pine Cones
CLASS:PUBLIC
DTSTAMP:20260419T195913Z
END:VEVENT
END:VCALENDAR