BEGIN:VCALENDAR
VERSION:2.0
PRODID:The Starfolk
BEGIN:VEVENT
UID:69e80f1fc048e
DTSTART:20150729T170000Z
SEQUENCE:0
TRANSP:OPAQUE
DTEND:20150729T170000Z
SUMMARY:The Starfolk
CLASS:PUBLIC
DTSTAMP:20260421T235823Z
END:VEVENT
END:VCALENDAR