BEGIN:VCALENDAR
VERSION:2.0
PRODID:Fruit Orchestra!
BEGIN:VEVENT
UID:69ea947288c35
DTSTART:20150614T020000Z
SEQUENCE:0
TRANSP:OPAQUE
DTEND:20150614T020000Z
SUMMARY:Fruit Orchestra!
CLASS:PUBLIC
DTSTAMP:20260423T215146Z
END:VEVENT
END:VCALENDAR