BEGIN:VCALENDAR
VERSION:2.0
PRODID:Why does she book what she does?
BEGIN:VEVENT
UID:69ed39245fba0
DTSTART:20150922T233000Z
SEQUENCE:0
TRANSP:OPAQUE
DTEND:20150922T233000Z
SUMMARY:Why does she book what she does?
CLASS:PUBLIC
DTSTAMP:20260425T215900Z
END:VEVENT
END:VCALENDAR