BEGIN:VCALENDAR
VERSION:2.0
PRODID:Preparing for the ‘Silver Tsunami’
BEGIN:VEVENT
UID:69e6cb2ff21a5
DTSTART:20151029T123000Z
SEQUENCE:0
TRANSP:OPAQUE
DTEND:20151029T123000Z
SUMMARY:Preparing for the ‘Silver Tsunami’
CLASS:PUBLIC
DTSTAMP:20260421T005615Z
END:VEVENT
END:VCALENDAR