BEGIN:VCALENDAR
VERSION:2.0
PRODID:Il Divo
BEGIN:VEVENT
UID:69e5341002516
DTSTART:20161024T003000Z
SEQUENCE:0
TRANSP:OPAQUE
DTEND:20161024T003000Z
SUMMARY:Il Divo
CLASS:PUBLIC
DTSTAMP:20260419T195912Z
END:VEVENT
END:VCALENDAR