BEGIN:VCALENDAR
VERSION:2.0
PRODID:Chris Young
BEGIN:VEVENT
UID:69e534105ef80
DTSTART:20160204T013000Z
SEQUENCE:0
TRANSP:OPAQUE
DTEND:20160204T013000Z
SUMMARY:Chris Young
CLASS:PUBLIC
DTSTAMP:20260419T195912Z
END:VEVENT
END:VCALENDAR