BEGIN:VCALENDAR
VERSION:2.0
PRODID:Amos Lee
BEGIN:VEVENT
UID:69e8b4a47982e
DTSTART:20161031T010000Z
SEQUENCE:0
TRANSP:OPAQUE
DTEND:20161031T010000Z
SUMMARY:Amos Lee
CLASS:PUBLIC
DTSTAMP:20260422T114436Z
END:VEVENT
END:VCALENDAR