BEGIN:VCALENDAR
VERSION:2.0
PRODID:Cage/Cunningham
BEGIN:VEVENT
UID:69e72b619b6a1
DTSTART:20170208T003000Z
SEQUENCE:0
TRANSP:OPAQUE
DTEND:20170208T003000Z
SUMMARY:Cage/Cunningham
CLASS:PUBLIC
DTSTAMP:20260421T074641Z
END:VEVENT
END:VCALENDAR