BEGIN:VCALENDAR
VERSION:2.0
PRODID:The Lockpicks
BEGIN:VEVENT
UID:69e598284291b
DTSTART:20160914T170000Z
SEQUENCE:0
TRANSP:OPAQUE
DTEND:20160914T170000Z
SUMMARY:The Lockpicks
CLASS:PUBLIC
DTSTAMP:20260420T030616Z
END:VEVENT
END:VCALENDAR