BEGIN:VCALENDAR
VERSION:2.0
PRODID:Dracula (1992)
BEGIN:VEVENT
UID:69e79c21373b2
DTSTART:20161013T230000Z
SEQUENCE:0
TRANSP:OPAQUE
DTEND:20161013T230000Z
SUMMARY:Dracula (1992)
CLASS:PUBLIC
DTSTAMP:20260421T154745Z
END:VEVENT
END:VCALENDAR