BEGIN:VCALENDAR
VERSION:2.0
PRODID:Improvising Ecosystems
BEGIN:VEVENT
UID:69e54c0cca8cb
DTSTART:20170223T213000Z
SEQUENCE:0
TRANSP:OPAQUE
DTEND:20170223T213000Z
SUMMARY:Improvising Ecosystems
CLASS:PUBLIC
DTSTAMP:20260419T214132Z
END:VEVENT
END:VCALENDAR