BEGIN:VCALENDAR
VERSION:2.0
PRODID:ODC/Dance
BEGIN:VEVENT
UID:69e59854df537
DTSTART:20171103T003000Z
SEQUENCE:0
TRANSP:OPAQUE
DTEND:20171103T003000Z
SUMMARY:ODC/Dance
CLASS:PUBLIC
DTSTAMP:20260420T030700Z
END:VEVENT
END:VCALENDAR