BEGIN:VCALENDAR
VERSION:2.0
PRODID:Cloud Cult
BEGIN:VEVENT
UID:69e59be56ab4e
DTSTART:20170610T010000Z
SEQUENCE:0
TRANSP:OPAQUE
DTEND:20170610T010000Z
SUMMARY:Cloud Cult
CLASS:PUBLIC
DTSTAMP:20260420T032213Z
END:VEVENT
END:VCALENDAR