BEGIN:VCALENDAR
VERSION:2.0
PRODID:Miniatures
BEGIN:VEVENT
UID:69e6a07d54d33
DTSTART:20180215T003000Z
SEQUENCE:0
TRANSP:OPAQUE
DTEND:20180215T003000Z
SUMMARY:Miniatures
CLASS:PUBLIC
DTSTAMP:20260420T215405Z
END:VEVENT
END:VCALENDAR