BEGIN:VCALENDAR
VERSION:2.0
PRODID:West Side Story (1961)
BEGIN:VEVENT
UID:69e55d14ee87a
DTSTART:20171023T213000Z
SEQUENCE:0
TRANSP:OPAQUE
DTEND:20171023T213000Z
SUMMARY:West Side Story (1961)
CLASS:PUBLIC
DTSTAMP:20260419T225412Z
END:VEVENT
END:VCALENDAR