BEGIN:VCALENDAR
VERSION:2.0
PRODID:Examining the evolution of the Bell Museum
BEGIN:VEVENT
UID:69e740ac0c028
DTSTART:20180308T213000Z
SEQUENCE:0
TRANSP:OPAQUE
DTEND:20180308T213000Z
SUMMARY:Examining the evolution of the Bell Museum
CLASS:PUBLIC
DTSTAMP:20260421T091732Z
END:VEVENT
END:VCALENDAR