BEGIN:VCALENDAR
VERSION:2.0
PRODID:Dance at the Gym
BEGIN:VEVENT
UID:69ece8c5b378f
DTSTART:20180410T210000Z
SEQUENCE:0
TRANSP:OPAQUE
DTEND:20180410T210000Z
SUMMARY:Dance at the Gym
CLASS:PUBLIC
DTSTAMP:20260425T161605Z
END:VEVENT
END:VCALENDAR