BEGIN:VCALENDAR
VERSION:2.0
PRODID:Dreamscape
BEGIN:VEVENT
UID:69ed3917eb5b5
DTSTART:20190411T203000Z
SEQUENCE:0
TRANSP:OPAQUE
DTEND:20190411T203000Z
SUMMARY:Dreamscape
CLASS:PUBLIC
DTSTAMP:20260425T215847Z
END:VEVENT
END:VCALENDAR