BEGIN:VCALENDAR
VERSION:2.0
PRODID:Pittsburgh Ballet Theatre
BEGIN:VEVENT
UID:69e710687b562
DTSTART:20190929T003000Z
SEQUENCE:0
TRANSP:OPAQUE
DTEND:20190929T003000Z
SUMMARY:Pittsburgh Ballet Theatre
CLASS:PUBLIC
DTSTAMP:20260421T055136Z
END:VEVENT
END:VCALENDAR