BEGIN:VCALENDAR
VERSION:2.0
PRODID:Shin Lim
BEGIN:VEVENT
UID:69ecd24faf957
DTSTART:20200315T050000Z
SEQUENCE:0
TRANSP:OPAQUE
DTEND:20200315T050000Z
SUMMARY:Shin Lim
CLASS:PUBLIC
DTSTAMP:20260425T144015Z
END:VEVENT
END:VCALENDAR