BEGIN:VCALENDAR
VERSION:2.0
PRODID:Tap (1989)
BEGIN:VEVENT
UID:69e53e1e8b31b
DTSTART:20191009T233000Z
SEQUENCE:0
TRANSP:OPAQUE
DTEND:20191009T233000Z
SUMMARY:Tap (1989)
CLASS:PUBLIC
DTSTAMP:20260419T204206Z
END:VEVENT
END:VCALENDAR