BEGIN:VCALENDAR
VERSION:2.0
PRODID:The Dazzling Light of Sunset (2016)
BEGIN:VEVENT
UID:69e6661c25b5a
DTSTART:20200422T050000Z
SEQUENCE:0
TRANSP:OPAQUE
DTEND:20200422T050000Z
SUMMARY:The Dazzling Light of Sunset (2016)
CLASS:PUBLIC
DTSTAMP:20260420T174500Z
END:VEVENT
END:VCALENDAR