BEGIN:VCALENDAR
VERSION:2.0
PRODID:ENCORE
BEGIN:VEVENT
UID:69e67fde6c000
DTSTART:20200404T050000Z
SEQUENCE:0
TRANSP:OPAQUE
DTEND:20200404T050000Z
SUMMARY:ENCORE
CLASS:PUBLIC
DTSTAMP:20260420T193454Z
END:VEVENT
END:VCALENDAR