BEGIN:VCALENDAR
VERSION:2.0
PRODID:Kinetic Light
BEGIN:VEVENT
UID:69e59853d4275
DTSTART:20201204T020000Z
SEQUENCE:0
TRANSP:OPAQUE
DTEND:20201204T020000Z
SUMMARY:Kinetic Light
CLASS:PUBLIC
DTSTAMP:20260420T030659Z
END:VEVENT
END:VCALENDAR