BEGIN:VCALENDAR
VERSION:2.0
PRODID:Identities and Creative Processes
BEGIN:VEVENT
UID:69e710638fff1
DTSTART:20201008T203000Z
SEQUENCE:0
TRANSP:OPAQUE
DTEND:20201008T203000Z
SUMMARY:Identities and Creative Processes
CLASS:PUBLIC
DTSTAMP:20260421T055131Z
END:VEVENT
END:VCALENDAR