BEGIN:VCALENDAR
VERSION:2.0
PRODID:DJ Keezy
BEGIN:VEVENT
UID:69e50bef7d453
DTSTART:20200903T170000Z
SEQUENCE:0
TRANSP:OPAQUE
DTEND:20200903T170000Z
SUMMARY:DJ Keezy
CLASS:PUBLIC
DTSTAMP:20260419T170759Z
END:VEVENT
END:VCALENDAR