BEGIN:VCALENDAR
VERSION:2.0
PRODID:Christopher Rochester Project
BEGIN:VEVENT
UID:69e54c0c83ad0
DTSTART:20200910T170000Z
SEQUENCE:0
TRANSP:OPAQUE
DTEND:20200910T170000Z
SUMMARY:Christopher Rochester Project
CLASS:PUBLIC
DTSTAMP:20260419T214132Z
END:VEVENT
END:VCALENDAR